BEGIN:VCALENDAR
VERSION:2.0
PRODID:-//jEvents 2.0 for Joomla//EN
CALSCALE:GREGORIAN
METHOD:PUBLISH
BEGIN:VTIMEZONE
TZID:Europe/Belgrade
BEGIN:STANDARD
DTSTART:20141026T020000
RDATE:20150329T030000
TZOFFSETFROM:+0200
TZOFFSETTO:+0100
TZNAME:Europe/Belgrade CET
END:STANDARD
BEGIN:STANDARD
DTSTART:20151025T020000
RDATE:20160327T030000
TZOFFSETFROM:+0200
TZOFFSETTO:+0100
TZNAME:Europe/Belgrade CET
END:STANDARD
BEGIN:STANDARD
DTSTART:20161030T020000
RDATE:20170326T030000
TZOFFSETFROM:+0200
TZOFFSETTO:+0100
TZNAME:Europe/Belgrade CET
END:STANDARD
BEGIN:DAYLIGHT
DTSTART:20140728T000000
RDATE:20141026T020000
TZOFFSETFROM:+0100
TZOFFSETTO:+0200
TZNAME:Europe/Belgrade CEST
END:DAYLIGHT
BEGIN:DAYLIGHT
DTSTART:20150329T030000
RDATE:20151025T020000
TZOFFSETFROM:+0100
TZOFFSETTO:+0200
TZNAME:Europe/Belgrade CEST
END:DAYLIGHT
BEGIN:DAYLIGHT
DTSTART:20160327T030000
RDATE:20161030T020000
TZOFFSETFROM:+0100
TZOFFSETTO:+0200
TZNAME:Europe/Belgrade CEST
END:DAYLIGHT
END:VTIMEZONE
BEGIN:VEVENT
UID:65fdc202aab1480a5e562d756e3d321e
CATEGORIES:Историјски догађај
SUMMARY:Састанак код Љубешке скеле
DESCRIPTION;ENCODING=QUOTED-PRINTABLE:
DTSTAMP:20260424T070900Z
DTSTART;TZID=Europe/Belgrade;VALUE=DATE:20150729
DTEND;TZID=Europe/Belgrade;VALUE=DATE:20150730
SEQUENCE:0
RRULE:FREQ=YEARLY;COUNT=10;INTERVAL=1;BYYEARDAY=-156
TRANSP:OPAQUE
END:VEVENT
END:VCALENDAR